BEGIN:VCALENDAR
VERSION:2.0
PRODID:-//CPDC -Highlands &amp; Islands - ECPv6.15.15//NONSGML v1.0//EN
CALSCALE:GREGORIAN
METHOD:PUBLISH
X-ORIGINAL-URL:https://www.cpdc-hi.co.uk
X-WR-CALDESC:Events for CPDC -Highlands &amp; Islands
REFRESH-INTERVAL;VALUE=DURATION:PT1H
X-Robots-Tag:noindex
X-PUBLISHED-TTL:PT1H
BEGIN:VTIMEZONE
TZID:Europe/London
BEGIN:DAYLIGHT
TZOFFSETFROM:+0000
TZOFFSETTO:+0100
TZNAME:BST
DTSTART:20240331T010000
END:DAYLIGHT
BEGIN:STANDARD
TZOFFSETFROM:+0100
TZOFFSETTO:+0000
TZNAME:GMT
DTSTART:20241027T010000
END:STANDARD
BEGIN:DAYLIGHT
TZOFFSETFROM:+0000
TZOFFSETTO:+0100
TZNAME:BST
DTSTART:20250330T010000
END:DAYLIGHT
BEGIN:STANDARD
TZOFFSETFROM:+0100
TZOFFSETTO:+0000
TZNAME:GMT
DTSTART:20251026T010000
END:STANDARD
BEGIN:DAYLIGHT
TZOFFSETFROM:+0000
TZOFFSETTO:+0100
TZNAME:BST
DTSTART:20260329T010000
END:DAYLIGHT
BEGIN:STANDARD
TZOFFSETFROM:+0100
TZOFFSETTO:+0000
TZNAME:GMT
DTSTART:20261025T010000
END:STANDARD
BEGIN:DAYLIGHT
TZOFFSETFROM:+0000
TZOFFSETTO:+0100
TZNAME:BST
DTSTART:20270328T010000
END:DAYLIGHT
BEGIN:STANDARD
TZOFFSETFROM:+0100
TZOFFSETTO:+0000
TZNAME:GMT
DTSTART:20271031T010000
END:STANDARD
END:VTIMEZONE
BEGIN:VEVENT
DTSTART;TZID=Europe/London:20251111T183000
DTEND;TZID=Europe/London:20251111T203000
DTSTAMP:20260423T220451
CREATED:20251005T194940Z
LAST-MODIFIED:20251005T194940Z
UID:1260-1762885800-1762893000@www.cpdc-hi.co.uk
SUMMARY:Attwood Lecture 2025: Inverness Castle Transformation
DESCRIPTION:An introduction to this transformational refurbishment project by Stuart MacKellar of LDN Architects\, highlighting the architectural design considerations to meet the client aspirations and the various main elements to the design proposals. Ben Adam\, Narro Project Director and CARE Engineer\, will then present the structural implications of the key interventions\, including the challenges faced by the design team and contractor to make them a reality. \nJoin us for the annual James Attwood Memorial Lecture\, organised this year by the Institute of Civil Engineers – Highlands and Islands\, with Q&A and networking opportunity. \n \n 
URL:https://www.cpdc-hi.co.uk/event/attwood-lecture-2025-inverness-castle-transformation/
LOCATION:Town House\, Inverness\, High Street\, Inverness\, IV1 1JJ\, United Kingdom
CATEGORIES:CPDC,ICE,Inverness
END:VEVENT
BEGIN:VEVENT
DTSTART;TZID=Europe/London:20251113T120000
DTEND;TZID=Europe/London:20251113T133000
DTSTAMP:20260423T220451
CREATED:20251029T080547Z
LAST-MODIFIED:20251029T080547Z
UID:1273-1763035200-1763040600@www.cpdc-hi.co.uk
SUMMARY:Wellbeing Within Construction (virtual event)
DESCRIPTION:IOSH Highlands & Islands \nThis session delves into the challenges faced by the construction industry – from the complexities of remote working and demanding long hours to the growing concern of workforce isolation. \nDrawing on his experience as an Army Commando and over 13 years in construction\, Mick shares his personal journey into health and wellbeing and why it became such a passion. He reflects on the strong parallels between the military and construction sectors\, both built on teamwork\, resilience\, and shared purpose\, and how lessons from one can strengthen the other. With honesty and authenticity\, Mick discusses the people at the heart of the industry\, highlighting common struggles\, success stories\, and setbacks. \nAttendees will gain insight into practical approaches for improving wellbeing\, connection and support across construction teams. \nFor more information and to register please click the link below. \nThis free\, online event is open to members and non-members of IOSH.
URL:https://www.cpdc-hi.co.uk/event/wellbeing-within-construction-virtual-event/
LOCATION:Online-only Event
CATEGORIES:#Online only,IOSH
END:VEVENT
BEGIN:VEVENT
DTSTART;TZID=Europe/London:20260304T190000
DTEND;TZID=Europe/London:20260304T210000
DTSTAMP:20260423T220451
CREATED:20260203T173128Z
LAST-MODIFIED:20260203T173128Z
UID:1298-1772650800-1772658000@www.cpdc-hi.co.uk
SUMMARY:Electrical Arc Flash Hazard Management in Industry
DESCRIPTION:The Electricity at Work Regulations call out a number of hazards that could cause injury or death when working around electricity. Some\, like electric shock\, are generally well understood and managed\, but can the same be said about electrical arc flash? How well is this hazard understood\, recognised and managed in electrical equipment operational throughout industry? This event will cover the basics of what the electrical arc hazard is\, where it might be encountered\, how it can be risk assessed. \nSpeakers: Calum Martin\, Nick Bramhall
URL:https://www.cpdc-hi.co.uk/event/electrical-arc-flash-hazard-management-in-industry/
LOCATION:Kingsmills Hotel\, Culcabock Road\, Inverness\, IV2 3LP
CATEGORIES:IET
END:VEVENT
BEGIN:VEVENT
DTSTART;TZID=Europe/London:20260428T190000
DTEND;TZID=Europe/London:20260428T210000
DTSTAMP:20260423T220451
CREATED:20260203T172738Z
LAST-MODIFIED:20260203T173234Z
UID:1296-1777402800-1777410000@www.cpdc-hi.co.uk
SUMMARY:Green Hydrogen
DESCRIPTION:What is it? How it is manufactured? What are its benefits for decarbonisation? What are the hurdles in developing this technology at scale? How could it be deployed in the North of Scotland? \nSpeaker: Paul Gill
URL:https://www.cpdc-hi.co.uk/event/green-hydrogen/
LOCATION:Kingsmills Hotel\, Culcabock Road\, Inverness\, IV2 3LP
CATEGORIES:IET
END:VEVENT
END:VCALENDAR