BEGIN:VCALENDAR
VERSION:2.0
PRODID:-//CPDC -Highlands &amp; Islands - ECPv6.15.15//NONSGML v1.0//EN
CALSCALE:GREGORIAN
METHOD:PUBLISH
X-WR-CALNAME:CPDC -Highlands &amp; Islands
X-ORIGINAL-URL:https://www.cpdc-hi.co.uk
X-WR-CALDESC:Events for CPDC -Highlands &amp; Islands
REFRESH-INTERVAL;VALUE=DURATION:PT1H
X-Robots-Tag:noindex
X-PUBLISHED-TTL:PT1H
BEGIN:VTIMEZONE
TZID:Europe/London
BEGIN:DAYLIGHT
TZOFFSETFROM:+0000
TZOFFSETTO:+0100
TZNAME:BST
DTSTART:20170326T010000
END:DAYLIGHT
BEGIN:STANDARD
TZOFFSETFROM:+0100
TZOFFSETTO:+0000
TZNAME:GMT
DTSTART:20171029T010000
END:STANDARD
BEGIN:DAYLIGHT
TZOFFSETFROM:+0000
TZOFFSETTO:+0100
TZNAME:BST
DTSTART:20180325T010000
END:DAYLIGHT
BEGIN:STANDARD
TZOFFSETFROM:+0100
TZOFFSETTO:+0000
TZNAME:GMT
DTSTART:20181028T010000
END:STANDARD
BEGIN:DAYLIGHT
TZOFFSETFROM:+0000
TZOFFSETTO:+0100
TZNAME:BST
DTSTART:20190331T010000
END:DAYLIGHT
BEGIN:STANDARD
TZOFFSETFROM:+0100
TZOFFSETTO:+0000
TZNAME:GMT
DTSTART:20191027T010000
END:STANDARD
BEGIN:DAYLIGHT
TZOFFSETFROM:+0000
TZOFFSETTO:+0100
TZNAME:BST
DTSTART:20200329T010000
END:DAYLIGHT
BEGIN:STANDARD
TZOFFSETFROM:+0100
TZOFFSETTO:+0000
TZNAME:GMT
DTSTART:20201025T010000
END:STANDARD
END:VTIMEZONE
BEGIN:VEVENT
DTSTART;TZID=Europe/London:20190116T190000
DTEND;TZID=Europe/London:20190116T210000
DTSTAMP:20260424T115935
CREATED:20190117T214906Z
LAST-MODIFIED:20190117T223448Z
UID:436-1547665200-1547672400@www.cpdc-hi.co.uk
SUMMARY:Quiz Night
DESCRIPTION:Fun quiz – free to attend
URL:https://www.cpdc-hi.co.uk/event/quiz-night/
LOCATION:Kingsmills Hotel\, Culcabock Road\, Inverness\, IV2 3LP
CATEGORIES:IET,Inverness
END:VEVENT
BEGIN:VEVENT
DTSTART;TZID=Europe/London:20181211T180000
DTEND;TZID=Europe/London:20181211T210000
DTSTAMP:20260424T115935
CREATED:20180725T012937Z
LAST-MODIFIED:20180725T014740Z
UID:200-1544551200-1544562000@www.cpdc-hi.co.uk
SUMMARY:Developing New Subsea Technology & Approaches to Field Development
DESCRIPTION:Developing New Subsea Technology and Approaches to Field Development \nSpeaker: Chris Pearson\, Small Pools Solution Centre Manager OGTC \nTime: 6pm for 6.30pm
URL:https://www.cpdc-hi.co.uk/event/developing-new-subsea-technology-approaches-to-field-development/
LOCATION:Marcliffe Hotel and Spa\, North Deeside Road\, Pitfodels\, Aberdeen AB15 9YA\, Marcliffe Hotel and Spa\, North Deeside Road\, Pitfodels\, Aberdeen\, AB15 9YA\, United Kingdom
CATEGORIES:Aberdeen,EI
ORGANIZER;CN="Energy Institute":MAILTO:aberdeen@energyinst.org
END:VEVENT
BEGIN:VEVENT
DTSTART;TZID=Europe/London:20181206T120000
DTEND;TZID=Europe/London:20181206T150000
DTSTAMP:20260424T115935
CREATED:20180906T213011Z
LAST-MODIFIED:20180906T213716Z
UID:324-1544097600-1544108400@www.cpdc-hi.co.uk
SUMMARY:The Elephant in the Room
DESCRIPTION:IOSH Christmas Lunch and entertainment- pre-booking is essential \nPresented by Dr Alan Curley\, Director of UC Mind Solutions\, Addictions and Sports Psychology Centre in Glasgow. \n 
URL:https://www.cpdc-hi.co.uk/event/the-elephant-in-the-room/
LOCATION:Kingsmills Hotel\, Culcabock Road\, Inverness\, IV2 3LP
CATEGORIES:Inverness,IOSH
END:VEVENT
BEGIN:VEVENT
DTSTART;TZID=Europe/London:20181205T190000
DTEND;TZID=Europe/London:20181205T210000
DTSTAMP:20260424T115935
CREATED:20190117T215426Z
LAST-MODIFIED:20190117T223233Z
UID:438-1544036400-1544043600@www.cpdc-hi.co.uk
SUMMARY:Cyber Security - Lesson from Cyber War
DESCRIPTION:David Orr\, Security Operations Centre Manager\, NCC Group \nDavid Orr commissioned in to the Royal Corps of Signals in 1999. Over a nineteen year career he served in an array of IT service delivery roles\, including on operations in Afghanistan. Latterly he specialised in cyber operations finishing his career as Chief of Staff (Operations) in Joint Forces Cyber Group where his responsibilities included integrating cyber into wider military panning. Since leaving the Army earlier in the year\, David has worked for NCC Group as their Security Operations Centre Manager. In this role he is responsible for a team of cyber security specialists delivering security as a service solutions to customers across an array of industry sectors.
URL:https://www.cpdc-hi.co.uk/event/cyber-security-lesson-from-cyber-war/
LOCATION:Kingsmills Hotel\, Culcabock Road\, Inverness\, IV2 3LP
CATEGORIES:HICSF,IET,Inverness
END:VEVENT
BEGIN:VEVENT
DTSTART;TZID=Europe/London:20181127T123000
DTEND;TZID=Europe/London:20181127T133000
DTSTAMP:20260424T115935
CREATED:20181113T173215Z
LAST-MODIFIED:20181113T173215Z
UID:402-1543321800-1543325400@www.cpdc-hi.co.uk
SUMMARY:Local Energy Planning
DESCRIPTION:27th November @ Western Isles – 12:30pm to 1:30pm – the event will be held using Video Conferencing Facilities (Laptops and tablets can also be used to access the event) – enabling access across the Chapter area \nContact: Hannah Morrison hmorrison@cne-siar.gov.uk
URL:https://www.cpdc-hi.co.uk/event/local-energy-planning/
CATEGORIES:RTPI
END:VEVENT
BEGIN:VEVENT
DTSTART;TZID=Europe/London:20181122T193000
DTEND;TZID=Europe/London:20181122T220000
DTSTAMP:20260424T115935
CREATED:20180725T012841Z
LAST-MODIFIED:20181113T172941Z
UID:198-1542915000-1542924000@www.cpdc-hi.co.uk
SUMMARY:Pub Quiz (jointly with Institute of Civil Engineers)
DESCRIPTION:22nd November @ Inverness – Corriegarth Hotel\, 7:30pm to 10pm \nFor further information contact: Alasdair Couttie\, \nt: 07810858963  e: highlandbranch@hotmail.co.uk
URL:https://www.cpdc-hi.co.uk/event/pub-quiz-in-inverness/
CATEGORIES:ICE,Inverness,RTPI
END:VEVENT
BEGIN:VEVENT
DTSTART;TZID=Europe/London:20181120T180000
DTEND;TZID=Europe/London:20181120T200000
DTSTAMP:20260424T115935
CREATED:20181113T171339Z
LAST-MODIFIED:20181113T171339Z
UID:392-1542736800-1542744000@www.cpdc-hi.co.uk
SUMMARY:MSc Student Best Paper Competition 2018
DESCRIPTION:Venue: Total E&P UK Limited\, Tarland Road\, Westhill\, Aberdeen\, AB32 6JZ \n6pm to 8pm \nEach of the chosen six students will give a ten minute presentation on their thesis and will then be quizzed and scored by a senior industry panel of judges specially chosen by the EI. \nFurther information and booking is available at www.energyinst.org/whats-on/events-and-training?meta_eventId=1811AHI1
URL:https://www.cpdc-hi.co.uk/event/msc-student-best-paper-competition-2018/
CATEGORIES:EI
ORGANIZER;CN="Energy Institute":MAILTO:aberdeen@energyinst.org
END:VEVENT
BEGIN:VEVENT
DTSTART;TZID=Europe/London:20181119T150000
DTEND;TZID=Europe/London:20181119T170000
DTSTAMP:20260424T115935
CREATED:20181017T152533Z
LAST-MODIFIED:20190212T232313Z
UID:370-1542639600-1542646800@www.cpdc-hi.co.uk
SUMMARY:BIM benefits - reducing construction costs and improving health & safety
DESCRIPTION:Highlands & Islands Construction Safety Forum – \nMain Speaker – Graham Martin\, HSE Specialist Inspector in Construction Engineering.
URL:https://www.cpdc-hi.co.uk/event/bim-benefits-reducing-construction-costs-and-improving-health-safety/
LOCATION:MacGregor Industrial Supplies\, 15-17 Henderson Road\, Longman\, Inverness\, IV1 1SN\, United Kingdom
CATEGORIES:HICSF,Inverness
ORGANIZER;CN="Highlands & Islands Construction Safety Forum":MAILTO:neil@neilwallace.co.uk
END:VEVENT
BEGIN:VEVENT
DTSTART;TZID=Europe/London:20181115T183000
DTEND;TZID=Europe/London:20181115T210000
DTSTAMP:20260424T115935
CREATED:20180909T124058Z
LAST-MODIFIED:20181106T185454Z
UID:331-1542306600-1542315600@www.cpdc-hi.co.uk
SUMMARY:Jim Attwood Memorial Lecture
DESCRIPTION:WONDERS BEYOND NUMBERS! \nSpeaker will be Mr Johnny Ball\, television personality and populariser of mathematics \nHosted by IET \nVenue:  Town House\, Inverness \nTime: 6.30pm \nBuffet supper provided
URL:https://www.cpdc-hi.co.uk/event/jim-attwood-memorial-lecture/
LOCATION:Town House\, Inverness\, High Street\, Inverness\, IV1 1JJ\, United Kingdom
END:VEVENT
BEGIN:VEVENT
DTSTART;TZID=Europe/London:20181115T123000
DTEND;TZID=Europe/London:20181115T150000
DTSTAMP:20260424T115935
CREATED:20181113T172424Z
LAST-MODIFIED:20181113T172424Z
UID:395-1542285000-1542294000@www.cpdc-hi.co.uk
SUMMARY:Managing Protected Species and a tour of CNPA’s new offices
DESCRIPTION:15th November @ Grantown-on-Spey (lunch 12:30pm\, talk/ discussion session starting 1pm\, event closes 3pm) – we hope to have video-conferencing available \nNumbers will be limited so please email to secure your place at: KatieCrerar@cairngorms.co.uk
URL:https://www.cpdc-hi.co.uk/event/managing-protected-species-and-a-tour-of-cnpas-new-offices/
CATEGORIES:RTPI
END:VEVENT
BEGIN:VEVENT
DTSTART;TZID=Europe/London:20181113T180000
DTEND;TZID=Europe/London:20181113T210000
DTSTAMP:20260424T115935
CREATED:20180725T012639Z
LAST-MODIFIED:20180725T013007Z
UID:196-1542132000-1542142800@www.cpdc-hi.co.uk
SUMMARY:Queensferry Crossing
DESCRIPTION:Queensferry Crossing \nSpeaker: Michael Martin\, Project Director \nTime: 6pm for 6.30pm
URL:https://www.cpdc-hi.co.uk/event/queensferry-crossing/
LOCATION:Marcliffe Hotel and Spa\, North Deeside Road\, Pitfodels\, Aberdeen AB15 9YA\, Marcliffe Hotel and Spa\, North Deeside Road\, Pitfodels\, Aberdeen\, AB15 9YA\, United Kingdom
CATEGORIES:Aberdeen,EI
ORGANIZER;CN="Energy Institute":MAILTO:aberdeen@energyinst.org
END:VEVENT
BEGIN:VEVENT
DTSTART;TZID=Europe/London:20181107T190000
DTEND;TZID=Europe/London:20181107T210000
DTSTAMP:20260424T115935
CREATED:20190117T220006Z
LAST-MODIFIED:20190117T222823Z
UID:440-1541617200-1541624400@www.cpdc-hi.co.uk
SUMMARY:Carbon fibre in the Highlands
DESCRIPTION:A tour through the production process\, applications & emerging trends. \nBy Stephen Easton (Site Director at SGL Carbon Muir Of Ord)
URL:https://www.cpdc-hi.co.uk/event/carbon-fibre-in-the-highlands/
LOCATION:Kingsmills Hotel\, Culcabock Road\, Inverness\, IV2 3LP
CATEGORIES:IET,Inverness
END:VEVENT
BEGIN:VEVENT
DTSTART;TZID=Europe/London:20181101T163000
DTEND;TZID=Europe/London:20181101T180000
DTSTAMP:20260424T115935
CREATED:20180906T211608Z
LAST-MODIFIED:20181024T212101Z
UID:322-1541089800-1541095200@www.cpdc-hi.co.uk
SUMMARY:Agile working - moving and handling
DESCRIPTION:The presentation will provide clarity on what Agile Working is\,the potential challenges and health and wellbeing health benefits. This wide-ranging topic will focus on six main elements on getting the best out of digital advances and new ways of working. \nPresented by Neil Shave of Posturite Ltd \nAt the Lecture Theatre\, Inverness College UHI\, Inverness Campus\, IV2 5NA – \nIOSH meeting – open to all – refreshments from 4.00pm
URL:https://www.cpdc-hi.co.uk/event/agile-working-moving-and-handling/
LOCATION:Inverness College UHI\, 1 Inverness Campus\, Inverness\, IV2 5NA\, United Kingdom
CATEGORIES:Inverness,IOSH
END:VEVENT
BEGIN:VEVENT
DTSTART;TZID=Europe/London:20181009T180000
DTEND;TZID=Europe/London:20181009T210000
DTSTAMP:20260424T115935
CREATED:20180725T012510Z
LAST-MODIFIED:20181002T124100Z
UID:194-1539108000-1539118800@www.cpdc-hi.co.uk
SUMMARY:Premier Oil Catcher Project
DESCRIPTION:Premier Oil Catcher Project \nSpeaker: Craig Matthew\, Project Director \nTime: 6pm for 6.30pm
URL:https://www.cpdc-hi.co.uk/event/premier-oil-catcher-project/
LOCATION:Marcliffe Hotel and Spa\, North Deeside Road\, Pitfodels\, Aberdeen AB15 9YA\, Marcliffe Hotel and Spa\, North Deeside Road\, Pitfodels\, Aberdeen\, AB15 9YA\, United Kingdom
CATEGORIES:Aberdeen,EI
ORGANIZER;CN="Energy Institute":MAILTO:aberdeen@energyinst.org
END:VEVENT
BEGIN:VEVENT
DTSTART;TZID=Europe/London:20181009T143000
DTEND;TZID=Europe/London:20181009T150000
DTSTAMP:20260424T115935
CREATED:20180725T012351Z
LAST-MODIFIED:20180725T012351Z
UID:191-1539095400-1539097200@www.cpdc-hi.co.uk
SUMMARY:Specifying Structural Steelwork
DESCRIPTION:Institute of Structural Engineers Seminar – Specifying Structural Steelwork \nContact: honsec@istructescotland.org
URL:https://www.cpdc-hi.co.uk/event/specifying-structural-steelwork/
LOCATION:Stirling Court Hotel\, Stirling Court Hotel\, University of Stirling\, Airthrey Road\, Stirling\, FK9 4LA
CATEGORIES:IStructE,Stirling
END:VEVENT
BEGIN:VEVENT
DTSTART;TZID=Europe/London:20181004T163000
DTEND;TZID=Europe/London:20181004T180000
DTSTAMP:20260424T115935
CREATED:20180906T210710Z
LAST-MODIFIED:20180906T213215Z
UID:320-1538670600-1538676000@www.cpdc-hi.co.uk
SUMMARY:Mock Trial & health and safety legal update
DESCRIPTION:Presented by Pinsent Masons\, an international law firm. \nAt the Lecture Theatre\, Inverness College UHI\, Inverness Campus\, IV2 5NA. \nIOSH meeting – open to all!
URL:https://www.cpdc-hi.co.uk/event/mock-trial-health-and-safety-legal-update/
LOCATION:Inverness College UHI\, 1 Inverness Campus\, Inverness\, IV2 5NA\, United Kingdom
CATEGORIES:Inverness,IOSH
END:VEVENT
BEGIN:VEVENT
DTSTART;TZID=Europe/London:20181003T190000
DTEND;TZID=Europe/London:20181003T210000
DTSTAMP:20260424T115935
CREATED:20180725T012040Z
LAST-MODIFIED:20180928T141407Z
UID:189-1538593200-1538600400@www.cpdc-hi.co.uk
SUMMARY:Traditional Building Skills Talk - Looking after Traditional Stonework
DESCRIPTION:Traditional Building Skills Talk – Looking after Traditional Stonework by Doors Open Days Highland \nThe evening talks and demonstrations are for owners and occupiers of traditional buildings\, or those with a general interest in historic buildings and their repair. Scheduled to last 2 hours\, each talk will provide plenty of opportunities for questions and discussion. Tea/ coffee will be provided as part of a mid-session comfort break.
URL:https://www.cpdc-hi.co.uk/event/traditional-building-skills-talk-looking-after-traditional-stonework/
LOCATION:Old High Church Hall\, 69 Academy Street\, Inverness
CATEGORIES:Inverness,RTPI
END:VEVENT
BEGIN:VEVENT
DTSTART;TZID=Europe/London:20180929T110000
DTEND;TZID=Europe/London:20180929T170000
DTSTAMP:20260424T115935
CREATED:20180909T131705Z
LAST-MODIFIED:20180928T134934Z
UID:336-1538218800-1538240400@www.cpdc-hi.co.uk
SUMMARY:Doors Open Days - Inverness Creative Academy
DESCRIPTION:The Inverness Creative Academy project will see Wasps transform two beautiful B-listed former Inverness Royal Academy school buildings in the Crown area of the city into a creative hub. \nThis will be the largest creative hub in the Highlands\, providing space for artists\, designers\, makers\, creative industries\, arts organisations and cultural social enterprises. \nWasps’ mission has been to provide space and support activities in which creative people can flourish. They now have a 40 year track record or supporting Scotland’s creative community and have grown to become one of the UK’s largest studio providers. Wasps currently house 800 visual artists\, 25 arts charities and 33 creative businesses at 18 sites across Scotland. \nDuring this guided tour we’ll share some of the historic research and hidden histories within the building along with an opportunity to see the new studio spaces before the tenants move in. \nThe buildings are an active construction site and you will be provided with a hard hat and high-visibility vest. We also request than you wear sensible footwear. \nhttps://www.eventbrite.co.uk/e/doors-open-days-inverness-creative-academy-tickets-47761162924
URL:https://www.cpdc-hi.co.uk/event/doors-open-days-inverness-creative-academy/
CATEGORIES:Other
END:VEVENT
BEGIN:VEVENT
DTSTART;TZID=Europe/London:20180921T090000
DTEND;TZID=Europe/London:20180921T160000
DTSTAMP:20260424T115935
CREATED:20180725T011813Z
LAST-MODIFIED:20180725T014823Z
UID:186-1537520400-1537545600@www.cpdc-hi.co.uk
SUMMARY:Highlands & Islands Traditional Building Forum Annual Conference 2018
DESCRIPTION:Start Time: 9:15 \nTraditional Buildings – materials & skills \nVarious speakers including a case study on the recently completed Inverness Town House repair project. \nCost £95 per person. \nPlease email training@inverness.uhi.ac.uk for further information and booking.
URL:https://www.cpdc-hi.co.uk/event/highlands-islands-traditional-building-forum-annual-conference-2018/
LOCATION:Smithton Church\, Smithton Church\, 1 Murray Road\, Smithton\, Inverness\, IV2 7YU
CATEGORIES:Inverness,Other
END:VEVENT
BEGIN:VEVENT
DTSTART;TZID=Europe/London:20180921T083000
DTEND;TZID=Europe/London:20180921T163000
DTSTAMP:20260424T115935
CREATED:20180725T011603Z
LAST-MODIFIED:20180918T172519Z
UID:182-1537518600-1537547400@www.cpdc-hi.co.uk
SUMMARY:Traditional Buildings - Materials and Skills
DESCRIPTION:Start Time: 8:45am \nTraditional Buildings – Materials and Skills by Highlands and Islands Traditional Building Forum \nSpeakers: Professor David Mitchell – Director of Conservation\, Historic Environment Scotland\, Nigel Copsey – Stonemason and Building Conservator\, The Earth\, Stone and Lime Company and Associates\, David Wiggins – Project Engineer\, Curtins Consulting Ltd\, Dr Ewan Hyslop – Head of Technical Research & Science\, Historic Environment Scotland\, Malcolm Thomson – D Blake & Co. Ltd
URL:https://www.cpdc-hi.co.uk/event/traditional-buildings-materials-and-skills/
LOCATION:Smithton Church\, Smithton Church\, 1 Murray Road\, Smithton\, Inverness\, IV2 7YU
CATEGORIES:Inverness,RTPI
END:VEVENT
BEGIN:VEVENT
DTSTART;TZID=Europe/London:20180911T180000
DTEND;TZID=Europe/London:20180911T210000
DTSTAMP:20260424T115935
CREATED:20180725T011300Z
LAST-MODIFIED:20180725T013119Z
UID:178-1536688800-1536699600@www.cpdc-hi.co.uk
SUMMARY:ARR Craib Transport
DESCRIPTION:ARR Craib Transport A 25 Year Energy Transformation Journey \nSpeaker: Eddie Anderson\, Managing Director \nTime: 6pm for 6.30pm
URL:https://www.cpdc-hi.co.uk/event/arr-craib-transport/
LOCATION:Marcliffe Hotel and Spa\, North Deeside Road\, Pitfodels\, Aberdeen AB15 9YA\, Marcliffe Hotel and Spa\, North Deeside Road\, Pitfodels\, Aberdeen\, AB15 9YA\, United Kingdom
CATEGORIES:Aberdeen,EI
ORGANIZER;CN="Energy Institute":MAILTO:aberdeen@energyinst.org
END:VEVENT
BEGIN:VEVENT
DTSTART;TZID=Europe/London:20180906T163000
DTEND;TZID=Europe/London:20180906T173000
DTSTAMP:20260424T115935
CREATED:20180725T010921Z
LAST-MODIFIED:20180906T211916Z
UID:175-1536251400-1536255000@www.cpdc-hi.co.uk
SUMMARY:New Health and Safety management system - ISO 45001
DESCRIPTION:Joint meeting between IOSH and Highlands and Islands Construction Safety Forum (HICSF): \n  \nPresentation on ISO 45001:2018 – a new international standard for H&S management\, adaptable for any organisation \nSpeaker – Dr Karen McDonnell\, member of BSI’s HS/1 committee and Past President of IOSH \n  \nAt main Lecture Theatre\, Inverness College UHI at Inverness Campus\, Inverness IV2 5NA \nRefreshments from 4.00pm\, meeting from 4.30pm until approx 5.30pm \n  \nFor remote participants\, option of linking up from other UHI centres (if arranged/confirmed in advance) \n  \n 
URL:https://www.cpdc-hi.co.uk/event/health-and-safety-management-system-iso-45001/
LOCATION:Inverness College UHI\, 1 Inverness Campus\, Inverness\, IV2 5NA\, United Kingdom
CATEGORIES:Inverness,IOSH
ORGANIZER;CN="Neil Wallace":MAILTO:neil@neilwallace.co.uk
END:VEVENT
BEGIN:VEVENT
DTSTART;TZID=Europe/London:20180903T140000
DTEND;TZID=Europe/London:20180903T160000
DTSTAMP:20260424T115935
CREATED:20180725T010657Z
LAST-MODIFIED:20180725T013450Z
UID:172-1535983200-1535990400@www.cpdc-hi.co.uk
SUMMARY:Tornagrain/Designing Streets Event
DESCRIPTION:Tornagrain/Designing Streets Event
URL:https://www.cpdc-hi.co.uk/event/172/
LOCATION:Tornagrain Visitor Centre\, By Mid Coul Farm\, Dalcross\, Inverness\, IV2 7JJ
CATEGORIES:Inverness,RTPI
END:VEVENT
BEGIN:VEVENT
DTSTART;TZID=Europe/London:20180830T093000
DTEND;TZID=Europe/London:20180830T163000
DTSTAMP:20260424T115935
CREATED:20180725T010333Z
LAST-MODIFIED:20180725T010341Z
UID:169-1535621400-1535646600@www.cpdc-hi.co.uk
SUMMARY:Traditional Building Skills - Traditional roof repair\, slating\, leadwork and rainwater goods
DESCRIPTION:Traditional Building Skills – Traditional roof repair\, slating\, leadwork and rainwater goods by Doors Open Days Highland \nThis course will cover the following topics: \n\nTraditional roofing in Inverness\nScottish slating: materials and practice; Stone roofing; Roofing leadwork: materials and detailing; Cast iron rainwater goods
URL:https://www.cpdc-hi.co.uk/event/traditional-building-skills-traditional-roof-repair-slating-leadwork-and-rainwater-goods/
LOCATION:Old High Church Hall\, 69 Academy Street\, Inverness
CATEGORIES:Inverness,RTPI
END:VEVENT
BEGIN:VEVENT
DTSTART;TZID=Europe/London:20180829T190000
DTEND;TZID=Europe/London:20180829T210000
DTSTAMP:20260424T115935
CREATED:20180725T005928Z
LAST-MODIFIED:20180725T010429Z
UID:166-1535569200-1535576400@www.cpdc-hi.co.uk
SUMMARY:Traditional Building Skills Talk
DESCRIPTION:Traditional Building Skills Talk – Looking after Traditional Roofs by Doors Open Days Highland \nThe evening talks and demonstrations are for owners and occupiers of traditional buildings\, or those with a general interest in historic buildings and their repair. Scheduled to last 2 hours\, each talk will provide plenty of opportunities for questions and discussion. Tea/ coffee will be provided as part of a mid-session comfort break.
URL:https://www.cpdc-hi.co.uk/event/traditional-building-skills-talk/
LOCATION:Old High Church Hall\, 69 Academy Street\, Inverness
CATEGORIES:Inverness,RTPI
END:VEVENT
BEGIN:VEVENT
DTSTART;TZID=Europe/London:20180810T120000
DTEND;TZID=Europe/London:20180810T180000
DTSTAMP:20260424T115935
CREATED:20180725T005429Z
LAST-MODIFIED:20180730T194327Z
UID:164-1533902400-1533924000@www.cpdc-hi.co.uk
SUMMARY:Inverness Study Tour - Torvean and Ness-side
DESCRIPTION:The Chapter are pleased to invite you to the 2018 study tour. We have planned an afternoon and early evening showcasing planning projects in the west of Inverness\, including transport and sports infrastructure delivery\, future city expansion and mineral extraction.\nVenue: Canal Park Pavilion\, Highland Rugby Club\, Inverness\nAgenda:\nWalking tour of West Link Road Stage 1\, new sports facilities and Torvean Development Brief refresh\nLight working lunch and presentations\nSite visit to Dunain Mains Quarry\nOptional social gathering afterwards in the city\nBook by contacting devplans@highland.gov.uk by Wednesday 1st August (also indicating if you want to join us for a pint afterwards). Full PPE is required for the Quarry visit\, as is personal transport\, so please car share where possible and get in touch if you need a lift! Places may be limited so will be allocated on a first come first serve basis.
URL:https://www.cpdc-hi.co.uk/event/inverness-study-tour-tbc/
CATEGORIES:Inverness,RTPI
END:VEVENT
BEGIN:VEVENT
DTSTART;TZID=Europe/London:20180725T143000
DTEND;TZID=Europe/London:20180725T150000
DTSTAMP:20260424T115935
CREATED:20180725T013856Z
LAST-MODIFIED:20180725T013856Z
UID:205-1532529000-1532530800@www.cpdc-hi.co.uk
SUMMARY:Concrete Analysis Toolkit
DESCRIPTION:Institute of Structural Engineers Seminar -Concrete Analysis Toolkit \nContact: honsec@istructescotland.org
URL:https://www.cpdc-hi.co.uk/event/concrete-analysis-toolkit/
LOCATION:Stirling Court Hotel\, Stirling Court Hotel\, University of Stirling\, Airthrey Road\, Stirling\, FK9 4LA
CATEGORIES:IStructE,Stirling
END:VEVENT
END:VCALENDAR