BEGIN:VCALENDAR
VERSION:2.0
PRODID:-//CPDC -Highlands &amp; Islands - ECPv6.15.15//NONSGML v1.0//EN
CALSCALE:GREGORIAN
METHOD:PUBLISH
X-WR-CALNAME:CPDC -Highlands &amp; Islands
X-ORIGINAL-URL:https://www.cpdc-hi.co.uk
X-WR-CALDESC:Events for CPDC -Highlands &amp; Islands
REFRESH-INTERVAL;VALUE=DURATION:PT1H
X-Robots-Tag:noindex
X-PUBLISHED-TTL:PT1H
BEGIN:VTIMEZONE
TZID:Europe/London
BEGIN:DAYLIGHT
TZOFFSETFROM:+0000
TZOFFSETTO:+0100
TZNAME:BST
DTSTART:20180325T010000
END:DAYLIGHT
BEGIN:STANDARD
TZOFFSETFROM:+0100
TZOFFSETTO:+0000
TZNAME:GMT
DTSTART:20181028T010000
END:STANDARD
BEGIN:DAYLIGHT
TZOFFSETFROM:+0000
TZOFFSETTO:+0100
TZNAME:BST
DTSTART:20190331T010000
END:DAYLIGHT
BEGIN:STANDARD
TZOFFSETFROM:+0100
TZOFFSETTO:+0000
TZNAME:GMT
DTSTART:20191027T010000
END:STANDARD
BEGIN:DAYLIGHT
TZOFFSETFROM:+0000
TZOFFSETTO:+0100
TZNAME:BST
DTSTART:20200329T010000
END:DAYLIGHT
BEGIN:STANDARD
TZOFFSETFROM:+0100
TZOFFSETTO:+0000
TZNAME:GMT
DTSTART:20201025T010000
END:STANDARD
BEGIN:DAYLIGHT
TZOFFSETFROM:+0000
TZOFFSETTO:+0100
TZNAME:BST
DTSTART:20210328T010000
END:DAYLIGHT
BEGIN:STANDARD
TZOFFSETFROM:+0100
TZOFFSETTO:+0000
TZNAME:GMT
DTSTART:20211031T010000
END:STANDARD
BEGIN:DAYLIGHT
TZOFFSETFROM:+0000
TZOFFSETTO:+0100
TZNAME:BST
DTSTART:20220327T010000
END:DAYLIGHT
BEGIN:STANDARD
TZOFFSETFROM:+0100
TZOFFSETTO:+0000
TZNAME:GMT
DTSTART:20221030T010000
END:STANDARD
END:VTIMEZONE
BEGIN:VEVENT
DTSTART;TZID=Europe/London:20210127T040000
DTEND;TZID=Europe/London:20210127T173000
DTSTAMP:20260423T185132
CREATED:20210121T181822Z
LAST-MODIFIED:20210121T181822Z
UID:879-1611720000-1611768600@www.cpdc-hi.co.uk
SUMMARY:Achieving Net-Zero - The Retrofit Imperative
DESCRIPTION:The newly Formed Highlands & islands CIOB Hub are putting on a CPD event next Wednesday\, which may be of interest to you. \n  \nhttps://events.ciob.org/ehome/200215829 \n  \nJoin us as Caroline Gumble CEO opens this webinar for the official launch of the new Highlands & Islands Hub followed by a presentation on Achieving Net-Zero – The Retrofit Imperative \nOur existing building stock provides one of the construction industries biggest challenges in achieving our net-zero targets. From a design perspective we must consider building performance\, quality and monitoring\, but there are also significant barriers in terms of funding and skills capacity in order to implement the changes required. ECD Architects director Alistair Cameron will discuss these challenges\, and through review of current ECD projects\, explore how these challenges can be met.
URL:https://www.cpdc-hi.co.uk/event/achieving-net-zero-the-retrofit-imperative/
CATEGORIES:CIOB
END:VEVENT
BEGIN:VEVENT
DTSTART;TZID=Europe/London:20210112T120000
DTEND;TZID=Europe/London:20210112T133000
DTSTAMP:20260423T185132
CREATED:20210112T184128Z
LAST-MODIFIED:20210113T005326Z
UID:866-1610452800-1610458200@www.cpdc-hi.co.uk
SUMMARY:Edinburgh-Active Travel Improvements -George St to Meadows
DESCRIPTION:This event led by CIHT Scotland will provide an overview of the Meadows to George Street projects in Edinburgh including the restructuring of the traffic system. The event will be followed by a live Q&A and the awarding of the CIHT Scotland Young Professional and Apprentice of the Year Awards for 2020. \nSpeakers \nPaul Matthews – Associate Director\, AECOM\nPaul is an experienced designer\, programme and project manager/director and his career has focused on walking\, cycling and place making.  He is interested in creating better places through co-design with local people.  He has led teams of engineers and urban designers to deliver a variety of active travel network and route design projects from inception to delivery. \nMartyn Lings – Senior Project Manager – Active Travel\, City of Edinburgh Council \nMartyn is a senior project manager in the Active Travel team for the City of Edinburgh Council. Having worked with Sustrans and the Council for 8 years\, he has a board range of experience in design and delivery of walking and cycling schemes. He has particular interests in the design of human scaled streets and public spaces.
URL:https://www.cpdc-hi.co.uk/event/edinburgh-active-travel-improvements-george-st-to-meadows/
LOCATION:Online-only Event
ORGANIZER;CN="CIHT Scotland":MAILTO:info@ciht.org.uk
END:VEVENT
BEGIN:VEVENT
DTSTART;TZID=Europe/London:20201119T150000
DTEND;TZID=Europe/London:20201119T160000
DTSTAMP:20260423T185132
CREATED:20210125T000236Z
LAST-MODIFIED:20210125T000236Z
UID:881-1605798000-1605801600@www.cpdc-hi.co.uk
SUMMARY:GDPR - Data Protection and Privacy
DESCRIPTION:Presenter: Hayley Jaffrey of the Quality Atlas Ltd. \nVirtual meeting hosted by IOSH Highlands & Islands Branch. \nSee IOSH website (Events section) for free registration details.
URL:https://www.cpdc-hi.co.uk/event/gdpr-data-protection-and-privacy/
LOCATION:Online-only Event
CATEGORIES:IOSH
END:VEVENT
BEGIN:VEVENT
DTSTART;TZID=Europe/London:20201103T180000
DTEND;TZID=Europe/London:20201103T193000
DTSTAMP:20260423T185132
CREATED:20201020T123308Z
LAST-MODIFIED:20201028T140621Z
UID:852-1604426400-1604431800@www.cpdc-hi.co.uk
SUMMARY:Professor James Attwood Memorial Lecture 2020 - online\, Tuesday 03 November 2020\, 6pm
DESCRIPTION:“Controlled Demolition and Our Illustrious Scientific Forebears” – Speaker: Bob Johnstone\n\n\n\n\n\n\nThe Scottish Regional Group of The Institution of Structural Engineers in conjunction with CPDC (H&I) present the Professor James Attwood Memorial Lecture 2020\, on the topic of controlled explosive and controlled collapse demolition. \nFOLLOW THE EVENT LINK TO BOOK YOUR FREE PLACE AND TO RECEIVE JOINING INSTRUCTIONS FOR THIS ONLINE EVENT. \n\n\n\n\n\nThe controlled collapse of large structures\, whether initiated by explosives or mechanical means\, can offer significant advantages over other methodologies in terms of health risk\, programme and cost. \nRisk avoidance or reduction is the main priority on any project\, but can only be achieved by developing a thorough understanding of the structure taking account of age related deterioration\, modifications that may have been carried out during its working life\, and the structural preparatory works to be carried out in advance of demolition. \nTemporary works design\, control and monitoring during this process are key to the safe execution of the structural preparatory works. \nDesign in particular involves conventional assessment of a static structure with stresses induced by load redistribution checked in accordance with current codes of practice. \nStability during engineering preparatory works is one thing\, but predicting how the collapse mechanism will develop and where the structure will land is another. \nFor that we need to refer to the fundamental Laws of Physics and pay tribute to our illustrious engineering forebears for development of the principles that allow us to understand this. \nSpeaker\nRobert Johnstone\, Keltbray
URL:https://www.cpdc-hi.co.uk/event/professor-james-attwood-memorial-lecture-2020-online-tuesday-03-november-2020-6pm/
LOCATION:Online-only Event
CATEGORIES:CPDC,IStructE
END:VEVENT
BEGIN:VEVENT
DTSTART;TZID=Europe/London:20201008T150000
DTEND;TZID=Europe/London:20201008T160000
DTSTAMP:20260423T185132
CREATED:20210125T001221Z
LAST-MODIFIED:20210125T001237Z
UID:883-1602169200-1602172800@www.cpdc-hi.co.uk
SUMMARY:Health & Safety Legal Update
DESCRIPTION:Presenter: Natalie Walker of Pinsent Masons\nVirtual meeting hosted by IOSH Highlands & Islands Branch.\nSee IOSH website (Events section) for free registration details.
URL:https://www.cpdc-hi.co.uk/event/health-safety-legal-update/
LOCATION:Online-only Event
CATEGORIES:IOSH
END:VEVENT
BEGIN:VEVENT
DTSTART;TZID=Europe/London:20200903T150000
DTEND;TZID=Europe/London:20200903T160000
DTSTAMP:20260423T185132
CREATED:20210125T001639Z
LAST-MODIFIED:20210125T001639Z
UID:885-1599145200-1599148800@www.cpdc-hi.co.uk
SUMMARY:Working at Height overview
DESCRIPTION:Presenter: Lee Fleming of IATS Ltd.\nVirtual meeting hosted by IOSH Highlands & Islands Branch.\nSee IOSH website (Events section) for free registration details.
URL:https://www.cpdc-hi.co.uk/event/working-at-height-overview/
LOCATION:Online-only Event
CATEGORIES:IOSH
END:VEVENT
BEGIN:VEVENT
DTSTART;TZID=Europe/London:20200604T150000
DTEND;TZID=Europe/London:20200604T170000
DTSTAMP:20260423T185132
CREATED:20200211T175436Z
LAST-MODIFIED:20200416T231934Z
UID:761-1591282800-1591290000@www.cpdc-hi.co.uk
SUMMARY:NOW POSTPONED- Extreme Risk Management
DESCRIPTION:Postponed due to COVID-19 – Further information to follow in due course. \nTo be presented by Scottish Ambulance Service and Mountain Rescue. \n  \n 
URL:https://www.cpdc-hi.co.uk/event/extreme-risk-management/
LOCATION:Fairways\, Castle Heather\,\, Inverness\, IV2 6AA
CATEGORIES:Inverness,IOSH
END:VEVENT
BEGIN:VEVENT
DTSTART;TZID=Europe/London:20200528T100000
DTEND;TZID=Europe/London:20200528T110000
DTSTAMP:20260423T185132
CREATED:20200520T163238Z
LAST-MODIFIED:20200520T163238Z
UID:846-1590660000-1590663600@www.cpdc-hi.co.uk
SUMMARY:Planning and Ecology
DESCRIPTION:The Cairngorms National Park is the UK’s largest protected landscape. Being home to around 25% of the UK’s threatened bird\, animal and plant species and having around 50% land protected by European nature designations\, it is one of the country’s most sensitive locations for development. National Park Authority ecologist\, Dr Sally Mackenzie will give a talk on how ecology\, habitats and protected species have been taken account of in development within the Park\, including the importance of habitat and species management plans. \nPlease follow link to book onto this online-only event and you will then be provided with joining instructions. \n \n  \n 
URL:https://www.cpdc-hi.co.uk/event/planning-and-ecology/
LOCATION:Online-only Event
END:VEVENT
BEGIN:VEVENT
DTSTART;TZID=Europe/London:20200527T150000
DTEND;TZID=Europe/London:20200527T160000
DTSTAMP:20260423T185132
CREATED:20210125T002305Z
LAST-MODIFIED:20210125T002305Z
UID:887-1590591600-1590595200@www.cpdc-hi.co.uk
SUMMARY:Presidential Team Update
DESCRIPTION:Presenter: IOSH presidential team\, followed by Inverness Chamber of Commerce \nVirtual meeting hosted by IOSH Highlands & Islands Branch.\nSee IOSH website (Events section) for free registration details.
URL:https://www.cpdc-hi.co.uk/event/presidential-team-update/
LOCATION:Online-only Event
CATEGORIES:IOSH
END:VEVENT
BEGIN:VEVENT
DTSTART;TZID=Europe/London:20200507T150000
DTEND;TZID=Europe/London:20200507T170000
DTSTAMP:20260423T185132
CREATED:20200211T174816Z
LAST-MODIFIED:20200416T232144Z
UID:758-1588863600-1588870800@www.cpdc-hi.co.uk
SUMMARY:NOW POSTPONED - Renewable energy initiatives in Orkney
DESCRIPTION:Postponed due to COVID-19. Further information to follow at a later date.
URL:https://www.cpdc-hi.co.uk/event/renewable-energy-initiatives-in-orkney/
LOCATION:Fairways\, Castle Heather\,\, Inverness\, IV2 6AA
CATEGORIES:Inverness,IOSH
END:VEVENT
BEGIN:VEVENT
DTSTART;TZID=Europe/London:20200501T193000
DTEND;TZID=Europe/London:20200501T230000
DTSTAMP:20260423T185132
CREATED:20200312T160813Z
LAST-MODIFIED:20200312T161153Z
UID:784-1588361400-1588374000@www.cpdc-hi.co.uk
SUMMARY:CIOB - Inverness Annual Quiz Night tba
DESCRIPTION:details tba
URL:https://www.cpdc-hi.co.uk/event/ciob-inverness-annual-quiz-night-tba/
END:VEVENT
BEGIN:VEVENT
DTSTART;TZID=Europe/London:20200415T090000
DTEND;TZID=Europe/London:20200415T230000
DTSTAMP:20260423T185132
CREATED:20200206T002954Z
LAST-MODIFIED:20200206T003204Z
UID:738-1586941200-1586991600@www.cpdc-hi.co.uk
SUMMARY:H&S update -tba-CIOB
DESCRIPTION:
URL:https://www.cpdc-hi.co.uk/event/hs-update-tba/
LOCATION:Inverness
CATEGORIES:CIOB
END:VEVENT
BEGIN:VEVENT
DTSTART;TZID=Europe/London:20200402T150000
DTEND;TZID=Europe/London:20200402T170000
DTSTAMP:20260423T185132
CREATED:20190905T122531Z
LAST-MODIFIED:20200314T181631Z
UID:615-1585839600-1585846800@www.cpdc-hi.co.uk
SUMMARY:NOW POSTPONED - Building Mental Health
DESCRIPTION:Note: Postponed in accordance with IOSH policy on COVID-19 situation. \nSpeaker: Martin Coyd OBE\, formerly of MACE Construction. \nThought provoking discussion of Mental Health First Aid issues. \nAll welcome – also includes brief AGM. \nFurther information to follow.
URL:https://www.cpdc-hi.co.uk/event/building-mental-health/
LOCATION:Fairways\, Castle Heather\,\, Inverness\, IV2 6AA
CATEGORIES:Inverness,IOSH
END:VEVENT
BEGIN:VEVENT
DTSTART;TZID=Europe/London:20200324T173000
DTEND;TZID=Europe/London:20200324T200000
DTSTAMP:20260423T185132
CREATED:20200312T150759Z
LAST-MODIFIED:20200312T150759Z
UID:779-1585071000-1585080000@www.cpdc-hi.co.uk
SUMMARY:CIHT(Aberdeen)- An evening with Uber
DESCRIPTION:Matt Eastwood – Uber\, Head of Cities\, North East of England and Scotland \nThis is an opportunity to hear about Uber operations in Glasgow and Edinburgh and their plans for the rest of Scotland. The evening will include a short presentation followed by an extended Q&A session that will allow attendees to put their questions to Matt. Matt has previously worked with the Energy Saving Trust (EST) and CoMoUK (previously CarPlus) so is well placed to answer a wide range of questions.\n \n\n\n\n\nIn addition\, for those arriving between 1730-1800\, there will be an opportunity to tour the Community Food Initiative North East (CFINE)\, a social enterprise committed to social\, environmental and economic development. This includes their warehouse operations\, electric cargo bikes and tuk tuk! This event is jointly presented by Charted Institute of Logistics and Transport (CILT)\, Chartered Institute of Highways and Transportation (CIHT) and MaaS Scotland\, and is open to CIHT/CILT Members and students at the University of Aberdeen and Robert Gordon University.
URL:https://www.cpdc-hi.co.uk/event/cihtaberdeen-an-evening-with-uber/
LOCATION:CFINE (Community Food Initiative)\, 4 Poynernook Road\, Aberdeen Aberdeenshire\, AB11 5RW
CATEGORIES:Aberdeen,CIHT
END:VEVENT
BEGIN:VEVENT
DTSTART;TZID=Europe/London:20200320T133000
DTEND;TZID=Europe/London:20200320T150000
DTSTAMP:20260423T185132
CREATED:20200312T162439Z
LAST-MODIFIED:20200312T162439Z
UID:788-1584711000-1584716400@www.cpdc-hi.co.uk
SUMMARY:IAA "Contract + Procurement Changes" following Carillion\, Brexit\, Edinburgh Schools\, PFI and Grenfell Tower
DESCRIPTION:(Check IAA to confirm details) \nOur AGM commences with a buffet lunch followed by a presentation (c 1.30?)by Len Bunton on “Contract + Procurement Changes” following Carillion\, Brexit\, Edinburgh Schools\, PFI and Grenfell Tower. AGM around 2.15pm
URL:https://www.cpdc-hi.co.uk/event/iaa-contract-procurement-changes-following-carillion-brexit-edinburgh-schools-pfi-and-grenfell-tower/
LOCATION:Glen Mhor Hotel\, Inverness
CATEGORIES:IAA,Inverness
END:VEVENT
BEGIN:VEVENT
DTSTART;TZID=Europe/London:20200319T170000
DTEND;TZID=Europe/London:20200319T190000
DTSTAMP:20260423T185132
CREATED:20200312T140424Z
LAST-MODIFIED:20200312T192033Z
UID:774-1584637200-1584644400@www.cpdc-hi.co.uk
SUMMARY:CIHT-Design Manual for Roads and Bridges (DMRB) Review Update 2020
DESCRIPTION:In recent years the Design Manual for Roads and Bridges (DMRB) has been undergoing an extensive review process\, with the intention to provide a more consistent structure\, clearer and more concise information to its users\, and to simplify and enable more regular future updates. New documents are currently being introduced every month\, with the publication of all documents due to be completed by the Spring of 2020. \nTransport Scotland and the other UK devolved authorities have supported Highways England throughout the process\, through document review\, challenge\, attendance at Technical Project Board meetings and preparation of National Annexes. \nJoin Alan Oliver from the Standards Branch at Transport Scotland\nwho will explain:\n• The background behind the DMRB update and its purpose.\n• The structure of the revised DMRB and the documents within.\n• The process of preparing and reviewing a new DMRB document.\n• Challenges and key issues for users to be aware of.\n• Plans for further technical updates and our involvement in related research.
URL:https://www.cpdc-hi.co.uk/event/ciht-design-manual-for-roads-and-bridges-dmrb-review-update-2020/
LOCATION:Eden Court (SGL Boardroom)\,\, Bishops Road\,\, Inverness\,\, IV3 5SA
CATEGORIES:CIHT
ORGANIZER;CN="CIHT Scotland":MAILTO:info@ciht.org.uk
END:VEVENT
BEGIN:VEVENT
DTSTART;TZID=Europe/London:20200315T193000
DTEND;TZID=Europe/London:20200315T210000
DTSTAMP:20260423T185132
CREATED:20200312T161530Z
LAST-MODIFIED:20200312T165518Z
UID:786-1584300600-1584306000@www.cpdc-hi.co.uk
SUMMARY:IAA /Inv Civic Trust-The new Inverness Justices' Centre
DESCRIPTION:Details tba by IAA \nInverness Civic Trust \nThursday 15 March : 7.30pm : Kingsmills Hotel : \nNeil Gillespie of Reiach and Hall\, Project Architects and Fergus Taylor of Currie Brown\, Project Managers\, will give a talk on the design of the new Inverness Justices’ Centre at the Civic Trust’s evening meeting on Thursday 15 March starting at 7.30pm in the Kingsmills Hotel.
URL:https://www.cpdc-hi.co.uk/event/iaa-inv-civic-trust-the-new-inverness-justices-centre/
LOCATION:Kingsmills Hotel\, Culcabock Road\, Inverness\, IV2 3LP
CATEGORIES:IAA,Inverness
END:VEVENT
BEGIN:VEVENT
DTSTART;TZID=Europe/London:20200312T180000
DTEND;TZID=Europe/London:20200312T190000
DTSTAMP:20260423T185132
CREATED:20190905T122035Z
LAST-MODIFIED:20200416T232319Z
UID:612-1584036000-1584039600@www.cpdc-hi.co.uk
SUMMARY:NOW POSTPONED - Working Safely with SSE Renewables
DESCRIPTION:IMPORTANT NOTE – this meeting has been postponed as SSE speakers are currently unavailable due to COVID-19 priorities. \nA revised date will be notified in due course. \n  \nJoint meeting between IOSH & ICE – also relevant to other professions! \n  \n\nPresenters:\n\nClare Ireland\, Operations Hydro SHE Manager of SSE\, based in Perth – who is a Chartered Fellow Environmental Health Officer\, and \nAlasdair Couttie\, Lead Engineer North\, SSE Renewables Programmes (and current Chair of ICE Highlands & Islands Branch). \n  \nThe speakers will discuss what is expected of SSE Renewables contractors etc and describe Safety Initiatives presently being undertaken. \nConsidering Human Factors which affect Risk Perception\, and how to develop Safe Behaviours and effective teamwork. \nAttendance should be of benefit to safety professionals\, operational colleagues and others who may get involved in renewable energy projects\, large or small. \n  \nPlease note change from usual IOSH start time and date – refreshments from 5.30pm. \nJoint meeting between IOSH & ICE – all welcome. \n 
URL:https://www.cpdc-hi.co.uk/event/managing-contractors/
LOCATION:Fairways\, Castle Heather\,\, Inverness\, IV2 6AA
CATEGORIES:IOSH
ORGANIZER;CN="Neil Wallace":MAILTO:neil@neilwallace.co.uk
END:VEVENT
BEGIN:VEVENT
DTSTART;TZID=Europe/London:20200310T170000
DTEND;TZID=Europe/London:20200310T170000
DTSTAMP:20260423T185132
CREATED:20200206T003902Z
LAST-MODIFIED:20200206T003902Z
UID:747-1583859600-1583859600@www.cpdc-hi.co.uk
SUMMARY:H&I Chance to influence NPF4- tba- RTPI
DESCRIPTION:
URL:https://www.cpdc-hi.co.uk/event/hi-chance-to-influence-npf4-tba-rtpi/
LOCATION:Grantown on Spey
CATEGORIES:RTPI
END:VEVENT
BEGIN:VEVENT
DTSTART;TZID=Europe/London:20200225T173000
DTEND;TZID=Europe/London:20200225T193000
DTSTAMP:20260423T185132
CREATED:20200206T003638Z
LAST-MODIFIED:20200210T172007Z
UID:744-1582651800-1582659000@www.cpdc-hi.co.uk
SUMMARY:Cross Tay Link Road- CIHT
DESCRIPTION:Denise Ritchie\, Technical Manager\, Transportation at Sweco \nRoss Fletcher\, Senior Engineer – Roads Infrastructure at Perth and Kinross Council \nThe talk will cover the background to the Cross Tay Link Road project including Perth and Kinross Council’s wider strategy\, the Perth Transport Futures measures and progress on their implementation so far. \nIt will go on to cover the development of the Cross Tay Link Road project specifically\, addressing key aspects of the design and environmental considerations with a focus on the DMRB Stage 3 input. \n 
URL:https://www.cpdc-hi.co.uk/event/cross-tay-ink-road-tba-ciht/
LOCATION:Bell Library\, Perth\, 2-8 York Place\, Perth\, PH2 8EP
CATEGORIES:CIHT
ORGANIZER;CN="CIHT Scotland":MAILTO:info@ciht.org.uk
END:VEVENT
BEGIN:VEVENT
DTSTART;TZID=Europe/London:20200225T173000
DTEND;TZID=Europe/London:20200225T193000
DTSTAMP:20260423T185132
CREATED:20200206T003405Z
LAST-MODIFIED:20200206T003405Z
UID:742-1582651800-1582659000@www.cpdc-hi.co.uk
SUMMARY:Engaging eith our Members -tba- ICE
DESCRIPTION:
URL:https://www.cpdc-hi.co.uk/event/engaging-eith-our-members-tba-ice/
LOCATION:Inverness
CATEGORIES:ICE
END:VEVENT
BEGIN:VEVENT
DTSTART;TZID=Europe/London:20200212T190000
DTEND;TZID=Europe/London:20200212T200000
DTSTAMP:20260423T185132
CREATED:20190928T091954Z
LAST-MODIFIED:20190930T174708Z
UID:647-1581534000-1581537600@www.cpdc-hi.co.uk
SUMMARY:IET - Glen Wyvis Distillery
DESCRIPTION:
URL:https://www.cpdc-hi.co.uk/event/glen-wyvis-distillery/
LOCATION:Kingsmills Hotel\, Culcabock Road\, Inverness\, IV2 3LP
CATEGORIES:IET,Inverness
END:VEVENT
BEGIN:VEVENT
DTSTART;TZID=Europe/London:20200115T190000
DTEND;TZID=Europe/London:20200115T200000
DTSTAMP:20260423T185132
CREATED:20190928T091821Z
LAST-MODIFIED:20190930T174620Z
UID:645-1579114800-1579118400@www.cpdc-hi.co.uk
SUMMARY:IET - Domestic Renewables
DESCRIPTION:
URL:https://www.cpdc-hi.co.uk/event/domestic-renewables/
LOCATION:Kingsmills Hotel\, Culcabock Road\, Inverness\, IV2 3LP
CATEGORIES:IET,Inverness
END:VEVENT
BEGIN:VEVENT
DTSTART;TZID=Europe/London:20191205T180000
DTEND;TZID=Europe/London:20191205T220000
DTSTAMP:20260423T185132
CREATED:20191112T192404Z
LAST-MODIFIED:20191112T192404Z
UID:725-1575568800-1575583200@www.cpdc-hi.co.uk
SUMMARY:RTPI-ICE Highlands & Islands Pub Quiz 2019
DESCRIPTION:The Highlands & Islands pub quiz is back! \nThe RTPI Chapter are delighted to announce that this year’s event is in the recently renovated Blackfriars\, Academy Street\, Inverness. We are again teaming up with the Institution of Civil Engineers (ICE) for an added level of competition. \nFresh\, locally produced food will be provided and exciting prizes awarded to the winning teams – so don’t miss out! Join us for some competition and craic with fellow planning and built environment folk across the North of Scotland. All sections of the built environment profession are welcome! \nPlease arrive by 6.00pm to get into your teams and grab your food. The quiz will start at 7.00pm and is expected to finish around 10pm. \nIt’s only £10 per person and teams should have up to 5 members. Please register yourself or your whole team by Thursday 22 November.
URL:https://www.cpdc-hi.co.uk/event/rtpi-ice-highlands-islands-pub-quiz-2019/
LOCATION:Blackfriars\, Inverness\, 93-95 Academy Street\, Inverness\, IV1 1LX
CATEGORIES:CPDC,ICE,Inverness,RTPI
END:VEVENT
BEGIN:VEVENT
DTSTART;TZID=Europe/London:20191205T120000
DTEND;TZID=Europe/London:20191205T150000
DTSTAMP:20260423T185132
CREATED:20190905T121145Z
LAST-MODIFIED:20191130T225930Z
UID:610-1575547200-1575558000@www.cpdc-hi.co.uk
SUMMARY:Festive Lunch
DESCRIPTION:IOSH members only – pre-booking essential
URL:https://www.cpdc-hi.co.uk/event/christmas-lunch/
LOCATION:Fairways\, Castle Heather\,\, Inverness\, IV2 6AA
CATEGORIES:IOSH
END:VEVENT
BEGIN:VEVENT
DTSTART;TZID=Europe/London:20191204T190000
DTEND;TZID=Europe/London:20191204T200000
DTSTAMP:20260423T185132
CREATED:20190928T091730Z
LAST-MODIFIED:20190930T174517Z
UID:643-1575486000-1575489600@www.cpdc-hi.co.uk
SUMMARY:IET - Remote process automation
DESCRIPTION:
URL:https://www.cpdc-hi.co.uk/event/remote-process-automation/
LOCATION:Kingsmills Hotel\, Culcabock Road\, Inverness\, IV2 3LP
CATEGORIES:IET,Inverness
END:VEVENT
BEGIN:VEVENT
DTSTART;TZID=Europe/London:20191125T120000
DTEND;TZID=Europe/London:20191125T140000
DTSTAMP:20260423T185132
CREATED:20191010T220429Z
LAST-MODIFIED:20191010T220429Z
UID:663-1574683200-1574690400@www.cpdc-hi.co.uk
SUMMARY:What’s doon there? Visit West Link Road scheme and drained Caledonian Canal
DESCRIPTION:Join the RTPI Highlands and Islands Chapter for a site visit to the Inverness West Link Road Stage 2 project. The Caledonian Canal will be dammed and drained and this visit gives us a unique opportunity to see this major construction project in action\, including this rare chance to see significant works to a Scheduled Monument and hear from The Highland Council and their contractors RJ MacLeod. This site visit is rooted in the forward planning of this part of the city through the Local Development Plan and follows on from previous site visits to Stage 1 of the West Link Project and last year’s Chapter study tour. We hope you can join us\, but please be aware spaces may be limited and booking is therefore required. \nPlease note full PPE is required.
URL:https://www.cpdc-hi.co.uk/event/whats-doon-there-visit-west-link-road-scheme-and-drained-caledonian-canal/
LOCATION:Site Office\, West Link Stage 2 (southern end of General Booth Road opposite Premier Inn)\, Inverness\, United Kingdom
CATEGORIES:Inverness,RTPI
END:VEVENT
BEGIN:VEVENT
DTSTART;TZID=Europe/London:20191119T180000
DTEND;TZID=Europe/London:20191119T200000
DTSTAMP:20260423T185132
CREATED:20190927T014413Z
LAST-MODIFIED:20190927T014413Z
UID:632-1574186400-1574193600@www.cpdc-hi.co.uk
SUMMARY:ICE-Stronelairg Wind Farm Construction\, Inverness
DESCRIPTION:Speakers: \nStephen Reid\, SSE\nGerard Hamill\, SSE\nThis talk will address the recent design\, development and construction of Stronelairg Wind Farm. Constructed above 600m OD\, it is one of Scotland’s largest and highest wind farms. \nThe speakers will discuss their involvement in the project and the difficulties of delivering a project of this size in record time. \nRegistration and refreshments from 5.30pm for a 6.00pm start. \nFor further information\, please contact Alasdair Couttie at highlandbranch@hotmail.co.uk \nThose joining online can join the event up to 15 minutes before the start time of 6.00pm at https://ice-org.webex.com/ice-org/onstage/g.php?MTID=e62362db06a035ce59540da22531d5bf5 \nIf prompted for a password\, please enter scotevent
URL:https://www.cpdc-hi.co.uk/event/ice-stronelairg-wind-farm-construction-inverness/
LOCATION:Inverness College UHI\, 1 Inverness Campus\, Inverness\, IV2 5NA\, United Kingdom
CATEGORIES:ICE,Inverness
END:VEVENT
BEGIN:VEVENT
DTSTART;TZID=Europe/London:20191112T180000
DTEND;TZID=Europe/London:20191112T210000
DTSTAMP:20260423T185132
CREATED:20180725T014631Z
LAST-MODIFIED:20191028T021849Z
UID:217-1573581600-1573592400@www.cpdc-hi.co.uk
SUMMARY:EI - Offshore & Ship Classification
DESCRIPTION:Speaker: DNV GL Maritime \nTime: 6pm for 6.30pm
URL:https://www.cpdc-hi.co.uk/event/offshore-ship-classification/
LOCATION:Marcliffe Hotel and Spa\, North Deeside Road\, Pitfodels\, Aberdeen AB15 9YA\, Marcliffe Hotel and Spa\, North Deeside Road\, Pitfodels\, Aberdeen\, AB15 9YA\, United Kingdom
CATEGORIES:Aberdeen,EI
ORGANIZER;CN="Energy Institute":MAILTO:aberdeen@energyinst.org
END:VEVENT
BEGIN:VEVENT
DTSTART;TZID=Europe/London:20191111T140000
DTEND;TZID=Europe/London:20191111T160000
DTSTAMP:20260423T185132
CREATED:20191028T022842Z
LAST-MODIFIED:20191028T151643Z
UID:680-1573480800-1573488000@www.cpdc-hi.co.uk
SUMMARY:CIOB - New Kintore Railway Site Visit
DESCRIPTION:Site Visit to Kintore Station \nThe £14.5m station will reconnect Kintore to the rail network for the first time in 56 years. \nFunded by Transport Scotland\, Aberdeenshire Council and Nestrans\, the new station will have step-free access between platforms through a footbridge with lifts. \nProviding an interchange between rail and road\, the station will have around 170 car parking spaces\, bike storage and connect into the local bus network.The station will be constructed over the next 12 months and is due to enter service in May 2020. All Aberdeen-Inverness trains will call at the station. \nReport to: Joe Lee \nBAM Nuttall Project Office\, New Kintore Station\, Kintore\, Aberdeenshire\, AB51 0YP\nPlease note: Parking is limited and numbers are very limited so bookings will be on a first come\, first served basis for each site. \nRegister via  https://events.ciob.org/ehome/200196528
URL:https://www.cpdc-hi.co.uk/event/ciob-new-kintore-railway/
LOCATION:Kintore New Railway Station
CATEGORIES:Aberdeen,CIOB
END:VEVENT
END:VCALENDAR