BEGIN:VCALENDAR
VERSION:2.0
PRODID:-//CPDC -Highlands &amp; Islands - ECPv6.15.15//NONSGML v1.0//EN
CALSCALE:GREGORIAN
METHOD:PUBLISH
X-ORIGINAL-URL:https://www.cpdc-hi.co.uk
X-WR-CALDESC:Events for CPDC -Highlands &amp; Islands
REFRESH-INTERVAL;VALUE=DURATION:PT1H
X-Robots-Tag:noindex
X-PUBLISHED-TTL:PT1H
BEGIN:VTIMEZONE
TZID:Europe/London
BEGIN:DAYLIGHT
TZOFFSETFROM:+0000
TZOFFSETTO:+0100
TZNAME:BST
DTSTART:20250330T010000
END:DAYLIGHT
BEGIN:STANDARD
TZOFFSETFROM:+0100
TZOFFSETTO:+0000
TZNAME:GMT
DTSTART:20251026T010000
END:STANDARD
BEGIN:DAYLIGHT
TZOFFSETFROM:+0000
TZOFFSETTO:+0100
TZNAME:BST
DTSTART:20260329T010000
END:DAYLIGHT
BEGIN:STANDARD
TZOFFSETFROM:+0100
TZOFFSETTO:+0000
TZNAME:GMT
DTSTART:20261025T010000
END:STANDARD
BEGIN:DAYLIGHT
TZOFFSETFROM:+0000
TZOFFSETTO:+0100
TZNAME:BST
DTSTART:20270328T010000
END:DAYLIGHT
BEGIN:STANDARD
TZOFFSETFROM:+0100
TZOFFSETTO:+0000
TZNAME:GMT
DTSTART:20271031T010000
END:STANDARD
END:VTIMEZONE
BEGIN:VEVENT
DTSTART;TZID=Europe/London:20260304T190000
DTEND;TZID=Europe/London:20260304T210000
DTSTAMP:20260423T094628
CREATED:20260203T173128Z
LAST-MODIFIED:20260203T173128Z
UID:1298-1772650800-1772658000@www.cpdc-hi.co.uk
SUMMARY:Electrical Arc Flash Hazard Management in Industry
DESCRIPTION:The Electricity at Work Regulations call out a number of hazards that could cause injury or death when working around electricity. Some\, like electric shock\, are generally well understood and managed\, but can the same be said about electrical arc flash? How well is this hazard understood\, recognised and managed in electrical equipment operational throughout industry? This event will cover the basics of what the electrical arc hazard is\, where it might be encountered\, how it can be risk assessed. \nSpeakers: Calum Martin\, Nick Bramhall
URL:https://www.cpdc-hi.co.uk/event/electrical-arc-flash-hazard-management-in-industry/
LOCATION:Kingsmills Hotel\, Culcabock Road\, Inverness\, IV2 3LP
CATEGORIES:IET
END:VEVENT
END:VCALENDAR